BEGIN:VCALENDAR
VERSION:2.0
PRODID:-//Republican Party of Navarro County - ECPv6.15.20//NONSGML v1.0//EN
CALSCALE:GREGORIAN
METHOD:PUBLISH
X-WR-CALNAME:Republican Party of Navarro County
X-ORIGINAL-URL:https://navgop.org
X-WR-CALDESC:Events for Republican Party of Navarro County
REFRESH-INTERVAL;VALUE=DURATION:PT1H
X-Robots-Tag:noindex
X-PUBLISHED-TTL:PT1H
BEGIN:VTIMEZONE
TZID:America/Chicago
BEGIN:DAYLIGHT
TZOFFSETFROM:-0600
TZOFFSETTO:-0500
TZNAME:CDT
DTSTART:20250309T080000
END:DAYLIGHT
BEGIN:STANDARD
TZOFFSETFROM:-0500
TZOFFSETTO:-0600
TZNAME:CST
DTSTART:20251102T070000
END:STANDARD
BEGIN:DAYLIGHT
TZOFFSETFROM:-0600
TZOFFSETTO:-0500
TZNAME:CDT
DTSTART:20260308T080000
END:DAYLIGHT
BEGIN:STANDARD
TZOFFSETFROM:-0500
TZOFFSETTO:-0600
TZNAME:CST
DTSTART:20261101T070000
END:STANDARD
BEGIN:DAYLIGHT
TZOFFSETFROM:-0600
TZOFFSETTO:-0500
TZNAME:CDT
DTSTART:20270314T080000
END:DAYLIGHT
BEGIN:STANDARD
TZOFFSETFROM:-0500
TZOFFSETTO:-0600
TZNAME:CST
DTSTART:20271107T070000
END:STANDARD
END:VTIMEZONE
BEGIN:VEVENT
DTSTART;TZID=America/Chicago:20260508T090000
DTEND;TZID=America/Chicago:20260509T210000
DTSTAMP:20260422T185926
CREATED:20260404T184316Z
LAST-MODIFIED:20260404T184319Z
UID:6322-1778230800-1778360400@navgop.org
SUMMARY:U.S. 250th Freedom Tour
DESCRIPTION:New Beginnings:  Celebrate America’s 250th Anniversary \n\n\n\n2000 Forum Parkway\, Bedford TX \n\n\n\nFree To The Public \n\n\n\nLive Concerts\, Food Trucks\, Kids Zone\, Fireworks
URL:https://navgop.org/navgop-event/u-s-250th-freedom-tour/
LOCATION:TX
END:VEVENT
END:VCALENDAR