BEGIN:VCALENDAR
VERSION:2.0
PRODID:-//Republican Party of Navarro County - ECPv6.15.20//NONSGML v1.0//EN
CALSCALE:GREGORIAN
METHOD:PUBLISH
X-ORIGINAL-URL:https://navgop.org
X-WR-CALDESC:Events for Republican Party of Navarro County
REFRESH-INTERVAL;VALUE=DURATION:PT1H
X-Robots-Tag:noindex
X-PUBLISHED-TTL:PT1H
BEGIN:VTIMEZONE
TZID:America/Chicago
BEGIN:DAYLIGHT
TZOFFSETFROM:-0600
TZOFFSETTO:-0500
TZNAME:CDT
DTSTART:20250309T080000
END:DAYLIGHT
BEGIN:STANDARD
TZOFFSETFROM:-0500
TZOFFSETTO:-0600
TZNAME:CST
DTSTART:20251102T070000
END:STANDARD
BEGIN:DAYLIGHT
TZOFFSETFROM:-0600
TZOFFSETTO:-0500
TZNAME:CDT
DTSTART:20260308T080000
END:DAYLIGHT
BEGIN:STANDARD
TZOFFSETFROM:-0500
TZOFFSETTO:-0600
TZNAME:CST
DTSTART:20261101T070000
END:STANDARD
BEGIN:DAYLIGHT
TZOFFSETFROM:-0600
TZOFFSETTO:-0500
TZNAME:CDT
DTSTART:20270314T080000
END:DAYLIGHT
BEGIN:STANDARD
TZOFFSETFROM:-0500
TZOFFSETTO:-0600
TZNAME:CST
DTSTART:20271107T070000
END:STANDARD
END:VTIMEZONE
BEGIN:VEVENT
DTSTART;TZID=America/Chicago:20260420T070000
DTEND;TZID=America/Chicago:20260420T190000
DTSTAMP:20260423T022818
CREATED:20260419T174431Z
LAST-MODIFIED:20260419T180002Z
UID:6360-1776668400-1776711600@navgop.org
SUMMARY:First Day of Early Voting In-Person for May 2\, 2026 City & School Election
DESCRIPTION:Monday April 20\, 2025    7:00 a.m. to 7:00 p.m. \n\n\n\nApril 20 is the first day of Early Voting in person for the May 2\, 2026 City & School Election at Navarro County Annex\, 601 North 13th Street\, Corsicana \n\n\n\nEarly Voting Dates and Times: \n\n\n\nMonday April 20 from 7:00 a.m. to 7:00 p.m. \n\n\n\nTuesday April 21 closed for San Jacinto Day \n\n\n\nWednesday April 22 thru Friday April 24 from 7:00 a.m. to 7:00 p.m. \n\n\n\nSaturday April 25 from 8:00 a.m. to 5:00 p.m. \n\n\n\nSunday April 26 from 1:00 p.m. to 7:00 p.m. \n\n\n\nMonday April 27 thru Tuesday April 28 from 7:00 a.m. to 7:00 p.m.
URL:https://navgop.org/navgop-event/first-day-of-early-voting-in-person-for-may-2-2026-city-school-election/
LOCATION:Navarro County Annex
END:VEVENT
BEGIN:VEVENT
DTSTART;TZID=America/Chicago:20260420T080000
DTEND;TZID=America/Chicago:20260420T163000
DTSTAMP:20260423T022818
CREATED:20260419T175116Z
LAST-MODIFIED:20260419T175845Z
UID:6364-1776672000-1776702600@navgop.org
SUMMARY:Last Day to Apply for Mail-In Ballot for May 2\, 2026 City & School Election
DESCRIPTION:Monday April 20\, 2026 \n\n\n\nApril 20 is the last day to apply for a mail-in ballot for the May 2\, 2026 City & School Election (received\, not postmarked) Navarro County Elections\, Navarro County Annex\, 601 North 13th Street\, Corsicana
URL:https://navgop.org/navgop-event/last-day-to-apply-for/
LOCATION:Navarro County Annex
END:VEVENT
BEGIN:VEVENT
DTSTART;TZID=America/Chicago:20260423T180000
DTEND;TZID=America/Chicago:20260423T210000
DTSTAMP:20260423T022818
CREATED:20260404T182222Z
LAST-MODIFIED:20260410T031202Z
UID:6317-1776967200-1776978000@navgop.org
SUMMARY:The Battle At Home:  Confronting the Islamization of Texas and Our Nation
DESCRIPTION:Sharia-Free Caucus:  Tommy Robinson \n\n\n\nTexas State Representative HD10 Brian Harrison \n\n\n\nTexas State Representative HD02 Brent Money \n\n\n\nU.S. Congressman CD03 Keith Self \n\n\n\nU.S. Congressman CD21 Chip Roy \n\n\n\nChange in venue:  Slate at II Creeks Venue Center\, 2701 Custer Pkwy\, Richardson TX tickets: \n\n\n\nhttps://ajc.ticketspice.com/islamization \n\n\n\nVIP Meet & Greet 6:00 pm \n\n\n\nPresentation and Panel Discussion Q & A 7:00 pm
URL:https://navgop.org/navgop-event/the-battle-at-home-confronting-the-islamization-of-texas-and-our-nation/
LOCATION:TX
END:VEVENT
BEGIN:VEVENT
DTSTART;TZID=America/Chicago:20260425T090000
DTEND;TZID=America/Chicago:20260425T170000
DTSTAMP:20260423T022818
CREATED:20260404T180133Z
LAST-MODIFIED:20260404T181414Z
UID:6314-1777107600-1777136400@navgop.org
SUMMARY:Derrick Days Republican Booth 2026
DESCRIPTION:Saturday\, April 25\, 2026 \n\n\n\nThe annual “Derrick Days” Festival was established in 1976 to commemorate Corsicana’s rich oil history and its significant impact on the community’s development. \n\n\n\nThe Republican Party of Navarro County is sponsoring a booth at Republican Headquarters during the Derrick Days Festival. \n\n\n\nWe need volunteers to work two-hour shifts: \n\n\n\n09:00 a.m. to 11:00 a.m. \n\n\n\n11:00 a.m. to 01:00 p.m. \n\n\n\n01:00 p.m. to 03:00 p.m. \n\n\n\n03:00 p.m. to 05:00 p.m. \n\n\n\nPlease contact Steve Jessup if you can help volunteer.
URL:https://navgop.org/navgop-event/derrick-days-republican-booth-2026/
LOCATION:Republican Headquarters\, 111-B West Third Avenue\, Corsicana\, TX\, 75110\, United States
ORGANIZER;CN="Republican Party of Navarro County":MAILTO:info@navgop.org
END:VEVENT
BEGIN:VEVENT
DTSTART;TZID=America/Chicago:20260428T070000
DTEND;TZID=America/Chicago:20260428T190000
DTSTAMP:20260423T022818
CREATED:20260419T174729Z
LAST-MODIFIED:20260419T174731Z
UID:6362-1777359600-1777402800@navgop.org
SUMMARY:Last Day of Early Voting In-Person for May 2\, 2026 City & School Election
DESCRIPTION:Monday April 20\, 2025    7:00 a.m. to 7:00 p.m. \n\n\n\nApril 28 is the last day of Early Voting in person for the May 2\, 2026 City & School Election at Navarro County Annex\, 601 North 13th Street\, Corsicana \n\n\n\nEarly Voting Dates and Times: \n\n\n\nMonday April 20 from 7:00 a.m. to 7:00 p.m. \n\n\n\nTuesday April 21 closed for San Jacinto Day \n\n\n\nWednesday April 22 thru Friday April 24 from 7:00 a.m. to 7:00 p.m. \n\n\n\nSaturday April 25 from 8:00 a.m. to 5:00 p.m. \n\n\n\nSunday April 26 from 1:00 p.m. to 7:00 p.m. \n\n\n\nMonday April 27 thru Tuesday April 28 from 7:00 a.m. to 7:00 p.m.
URL:https://navgop.org/navgop-event/last-day-of-early-voting-in-person-for-may-2-2026-city-school-election/
LOCATION:TX
END:VEVENT
BEGIN:VEVENT
DTSTART;TZID=America/Chicago:20260428T113000
DTEND;TZID=America/Chicago:20260428T130000
DTSTAMP:20260423T022818
CREATED:20260404T183630Z
LAST-MODIFIED:20260404T192236Z
UID:6319-1777375800-1777381200@navgop.org
SUMMARY:State Of The State Luncheon
DESCRIPTION:Luncheon at Corsicana Country Club \n\n\n\n4100 Country Club Drive\, Corsicana TX \n\n\n\nTexas State Senator Bob Hall SD02 \n\n\n\nTexas State Representative Cody Harris HD08 \n\n\n\nTickets on sale at Corsicana & Navarro County Chamber of Commerce \n\n\n\nwww.corsicana.org
URL:https://navgop.org/navgop-event/the-state-of-the-state/
LOCATION:Corsicana Country Club\, 4100 Country Club Dr\, Corsicana\, 75110\, United States
END:VEVENT
BEGIN:VEVENT
DTSTART;TZID=America/Chicago:20260502T070000
DTEND;TZID=America/Chicago:20260502T190000
DTSTAMP:20260423T022818
CREATED:20260404T184639Z
LAST-MODIFIED:20260404T185519Z
UID:6324-1777705200-1777748400@navgop.org
SUMMARY:May 2\, 2026 City & School Board Election
DESCRIPTION:Candidate Contact Information and Vote Center Locations: \n\n\n\nPOLLING LOCATIONS FOR MAY 2\, 2026\n\n\n\nYMCA Rhoades Optimist Room400 Oaklawn Drive\, Corsicana \n\n\n\nChurch of Jesus Christ of Latter Day Saints3800 Emhouse Road\, Corsicana \n\n\n\nRice City Hall305 N. Dallas Street\, Rice \n\n\n\nChatfield Community Center4808 FM Road 1603\, Chatfield \n\n\n\nMartin Luther King Center1114 East Sixth Avenue\, Corsicana \n\n\n\nBears’ Den802 South 2nd Street\, Corsicana \n\n\n\nKerens ISD Administration Building200 Bobcat Lane\, Kerens \n\n\n\nEureka United Methodist Church8644 South Highway 287\, Corsicana \n\n\n\nMildred Baptist Church Gymnasium5502 South Highway 287\, Corsicana \n\n\n\nNavarro College Cook Center3200 West Seventh Avenue\, Corsicana \n\n\n\nNavarro County Courthouse Annex601 North 13th Street\, Corsicana \n\n\n\nDawson Volunteer Fire Department97 N Main Street\, Dawson \n\n\n\nRichland City Hall103 W. Main Street\, Richland \n\n\n\nWinkler Masonic Lodge9986 FM Road 416\, Winkler \n\n\n\nWestside Baptist Church1522 N. 24th Street\, Corsicana \n\n\n\nCorsicana High School3701 West Highway 22\, Corsicana \n\n\n\nBlooming Grove Lions’ Den121 S. Fordyce Street\, Blooming Grove \n\n\n\nFrost ISD208 N. Wyrick Street\, Frost \n\n\n\nSilver City Volunteer Fire Department555 FM Road 55\, Silver City / Purdon \n\n\n\nPursley Missionary Baptist Church8108 FM Road 642\, Pursley \n\n\n\nCompleted mail-in ballots must be received by the Elections Administration Office by 7:00 pm. If a voter chooses not to use their mail-in ballot and desires to vote election day\, they MUST bring their mail-in ballot to the polling place and return it to the election judge to be able to vote a regular ballot. If the voter does not bring their mail-in ballot\, they will be required to cast a provisional ballot.
URL:https://navgop.org/navgop-event/may-2-2026-city-school-board-election/
LOCATION:Navarro County Annex
END:VEVENT
BEGIN:VEVENT
DTSTART;TZID=America/Chicago:20260508T090000
DTEND;TZID=America/Chicago:20260509T210000
DTSTAMP:20260423T022818
CREATED:20260404T184316Z
LAST-MODIFIED:20260404T184319Z
UID:6322-1778230800-1778360400@navgop.org
SUMMARY:U.S. 250th Freedom Tour
DESCRIPTION:New Beginnings:  Celebrate America’s 250th Anniversary \n\n\n\n2000 Forum Parkway\, Bedford TX \n\n\n\nFree To The Public \n\n\n\nLive Concerts\, Food Trucks\, Kids Zone\, Fireworks
URL:https://navgop.org/navgop-event/u-s-250th-freedom-tour/
LOCATION:TX
END:VEVENT
BEGIN:VEVENT
DTSTART;TZID=America/Chicago:20260518T183000
DTEND;TZID=America/Chicago:20260518T200000
DTSTAMP:20260423T022818
CREATED:20260422T052326Z
LAST-MODIFIED:20260422T052328Z
UID:6371-1779129000-1779134400@navgop.org
SUMMARY:Executive Committee Meeting
DESCRIPTION:The Republican Party Of Navarro County will hold an Executive Committee Meeting on Monday May 18\, 2026 at 6:30 pm at the Republican Headquarters located at 111-B West Third Avenue in downtown Corsicana. \n\n\n\nTroy B. Jackson PhD will be the guest speaker. \n\n\n\nJoin us for a social from 6:00pm to 6:30pm\, saluting our elected officials. \n\n\n\nAll registered voters are welcome to attend.
URL:https://navgop.org/navgop-event/executive-committee-meeting-36/
LOCATION:Republican Headquarters\, 111-B West Third Avenue\, Corsicana\, TX\, 75110\, United States
ORGANIZER;CN="Republican Party of Navarro County":MAILTO:info@navgop.org
END:VEVENT
BEGIN:VEVENT
DTSTART;TZID=America/Chicago:20260526T070000
DTEND;TZID=America/Chicago:20260526T190000
DTSTAMP:20260423T022818
CREATED:20260404T184928Z
LAST-MODIFIED:20260404T185709Z
UID:6326-1779778800-1779822000@navgop.org
SUMMARY:Republican Primary Runoff Election Day 2026
DESCRIPTION:Candidate Contact Information and Vote Center Locations: \n\n\n\nPOLLING LOCATIONS FOR MAY 26\, 2026\n\n\n\nYMCA Rhoades Optimist Room400 Oaklawn Drive\, Corsicana \n\n\n\nChurch of Jesus Christ of Latter Day Saints3800 Emhouse Road\, Corsicana \n\n\n\nRice City Hall305 N. Dallas Street\, Rice \n\n\n\nChatfield Community Center4808 FM Road 1603\, Chatfield \n\n\n\nMartin Luther King Center1114 East Sixth Avenue\, Corsicana \n\n\n\nBears’ Den802 South 2nd Street\, Corsicana \n\n\n\nKerens ISD Administration Building200 Bobcat Lane\, Kerens \n\n\n\nEureka United Methodist Church8644 South Highway 287\, Corsicana \n\n\n\nMildred Baptist Church Gymnasium5502 South Highway 287\, Corsicana \n\n\n\nNavarro College Cook Center3200 West Seventh Avenue\, Corsicana \n\n\n\nNavarro County Courthouse Annex601 North 13th Street\, Corsicana \n\n\n\nDawson Volunteer Fire Department97 N Main Street\, Dawson \n\n\n\nRichland City Hall103 W. Main Street\, Richland \n\n\n\nWinkler Masonic Lodge9986 FM Road 416\, Winkler \n\n\n\nWestside Baptist Church1522 N. 24th Street\, Corsicana \n\n\n\nCorsicana High School3701 West Highway 22\, Corsicana \n\n\n\nBlooming Grove Lions’ Den121 S. Fordyce Street\, Blooming Grove \n\n\n\nFrost ISD208 N. Wyrick Street\, Frost \n\n\n\nSilver City Volunteer Fire Department555 FM Road 55\, Silver City / Purdon \n\n\n\nPursley Missionary Baptist Church8108 FM Road 642\, Pursley \n\n\n\nCompleted mail-in ballots must be received by the Elections Administration Office by 7:00 pm. If a voter chooses not to use their mail-in ballot and desires to vote election day\, they MUST bring their mail-in ballot to the polling place and return it to the election judge to be able to vote a regular ballot. If the voter does not bring their mail-in ballot\, they will be required to cast a provisional ballot.
URL:https://navgop.org/navgop-event/2026-republican-primary-runoff-election/
LOCATION:Navarro County Annex
END:VEVENT
END:VCALENDAR