BEGIN:VCALENDAR
VERSION:2.0
PRODID:-//Republican Party of Navarro County - ECPv6.15.20//NONSGML v1.0//EN
CALSCALE:GREGORIAN
METHOD:PUBLISH
X-WR-CALNAME:Republican Party of Navarro County
X-ORIGINAL-URL:https://navgop.org
X-WR-CALDESC:Events for Republican Party of Navarro County
REFRESH-INTERVAL;VALUE=DURATION:PT1H
X-Robots-Tag:noindex
X-PUBLISHED-TTL:PT1H
BEGIN:VTIMEZONE
TZID:America/Chicago
BEGIN:DAYLIGHT
TZOFFSETFROM:-0600
TZOFFSETTO:-0500
TZNAME:CDT
DTSTART:20170312T080000
END:DAYLIGHT
BEGIN:STANDARD
TZOFFSETFROM:-0500
TZOFFSETTO:-0600
TZNAME:CST
DTSTART:20171105T070000
END:STANDARD
BEGIN:DAYLIGHT
TZOFFSETFROM:-0600
TZOFFSETTO:-0500
TZNAME:CDT
DTSTART:20180311T080000
END:DAYLIGHT
BEGIN:STANDARD
TZOFFSETFROM:-0500
TZOFFSETTO:-0600
TZNAME:CST
DTSTART:20181104T070000
END:STANDARD
BEGIN:DAYLIGHT
TZOFFSETFROM:-0600
TZOFFSETTO:-0500
TZNAME:CDT
DTSTART:20190310T080000
END:DAYLIGHT
BEGIN:STANDARD
TZOFFSETFROM:-0500
TZOFFSETTO:-0600
TZNAME:CST
DTSTART:20191103T070000
END:STANDARD
BEGIN:DAYLIGHT
TZOFFSETFROM:-0600
TZOFFSETTO:-0500
TZNAME:CDT
DTSTART:20200308T080000
END:DAYLIGHT
BEGIN:STANDARD
TZOFFSETFROM:-0500
TZOFFSETTO:-0600
TZNAME:CST
DTSTART:20201101T070000
END:STANDARD
END:VTIMEZONE
BEGIN:VEVENT
DTSTART;TZID=America/Chicago:20190115T170000
DTEND;TZID=America/Chicago:20190115T190000
DTSTAMP:20260425T060329
CREATED:20180706T032852Z
LAST-MODIFIED:20240630T004533Z
UID:449-1547571600-1547578800@navgop.org
SUMMARY:Executive Committee Meeting
DESCRIPTION:6:00pm – 8:00pm\n\nThe Republican Party Of Navarro County will hold an Executive Committee Special Meeting on Tuesday\, January 15th\, 2019 at 6:30 pm at the RPNC headquarters located at 111-B West Third Avenue in downtown Corsicana.\n\nDan Teed\, Navarro County Elections Administrator\, will be discussing the Mid-term Election from the Elections Office perspective and what changes he envisions for our upcoming elections.\n\nPlease join us for a social from 6:00pm to 6:30pm\, saluting our elected officials.\n\nAll registered voters are welcome to attend.
URL:https://navgop.org/navgop-event/executive-committee-meeting-3/
LOCATION:Republican Headquarters\, 111-B West Third Avenue\, Corsicana\, TX\, 75110\, United States
CATEGORIES:Required CEC Meeting
ORGANIZER;CN="Republican Party of Navarro County":MAILTO:info@navgop.org
END:VEVENT
BEGIN:VEVENT
DTSTART;TZID=America/Chicago:20181116T170000
DTEND;TZID=America/Chicago:20181116T200000
DTSTAMP:20260425T060329
CREATED:20180925T205020Z
LAST-MODIFIED:20180925T205020Z
UID:749-1542387600-1542398400@navgop.org
SUMMARY:Learn To Testify Seminar
DESCRIPTION:November 16\, 2018    6:00 pm – 9:00 pm\nUnderstanding the Secrets of the Texas Legislature \npresented by Rachel Malone\, Gun Owners of America \nLearn to: \n\nAdvocate for any issue that advances Texans’ rights.\nUse your time more effectively as a grassroots activist.\nMove great bills through the Texas Legislature (or stop bad bills).\n\n  \nLocation: \nRepublican Party of Navarro County \n111-B West Third Avenue\, Corsicana\, Texas 75110 \n  \nFor more information: \nEmail:  rachel.malone@gunowners.org          Phone:  512-937-3006
URL:https://navgop.org/navgop-event/learn-to-testify-seminar/
LOCATION:Republican Headquarters\, 111-B West Third Avenue\, Corsicana\, TX\, 75110\, United States
END:VEVENT
BEGIN:VEVENT
DTSTART;TZID=America/Chicago:20181112T170000
DTEND;TZID=America/Chicago:20181112T190000
DTSTAMP:20260425T060329
CREATED:20180706T032845Z
LAST-MODIFIED:20181105T222817Z
UID:448-1542042000-1542049200@navgop.org
SUMMARY:Executive Committee Meeting
DESCRIPTION:6:00pm – 8:00pm \nThe Republican Party Of Navarro County will hold an Executive Committee Special Meeting on Monday November 12\, 2018 at 6:30 pm at the RPNC headquarters located at 111-B West Third Avenue in downtown Corsicana. \nPlease join us for a social from 6:00pm to 6:30pm\, saluting our elected officials. \nAll registered voters are welcome to attend. \nGuest speaker U.S. Congressman Joe Barton will address the local party with his thoughts on this General Election\, reflections on his tenure as our Congressman\, and what we can expect out of Congress in 2019.
URL:https://navgop.org/navgop-event/executive-committee-meeting-2/
LOCATION:Republican Headquarters\, 111-B West Third Avenue\, Corsicana\, TX\, 75110\, United States
ORGANIZER;CN="Republican Party of Navarro County":MAILTO:info@navgop.org
END:VEVENT
BEGIN:VEVENT
DTSTART;TZID=America/Chicago:20181106T173000
DTEND;TZID=America/Chicago:20181106T203000
DTSTAMP:20260425T060329
CREATED:20181030T041622Z
LAST-MODIFIED:20181101T183731Z
UID:863-1541525400-1541536200@navgop.org
SUMMARY:General Election Night 2018 Watch Party
DESCRIPTION:Republican Party of Navarro County Election Night Watch Party  \nTuesday November 6\n6:30 pm — 9:30 pm\nThe Republican Party of Navarro County will hold an Election Night Watch Party from 6:30 pm to 9:30 pm at Republican Headquarters\, 111-B West Third Avenue in downtown Corsicana. \nWe will watch the November 6 General Election returns via computer. \nCounty Chair Eric R. Meyers will provide free pizza and soda.
URL:https://navgop.org/navgop-event/general-election-night-2018-watch-party/
ORGANIZER;CN="Republican Party of Navarro County":MAILTO:info@navgop.org
END:VEVENT
BEGIN:VEVENT
DTSTART;TZID=America/Chicago:20181106T060000
DTEND;TZID=America/Chicago:20181106T180000
DTSTAMP:20260425T060329
CREATED:20180705T155355Z
LAST-MODIFIED:20181205T052406Z
UID:441-1541484000-1541527200@navgop.org
SUMMARY:General Election Day
DESCRIPTION:Candidate Contact Information and Vote Center Locations  \nPOLLING LOCATIONS FOR NOVEMBER 6\, 2018:\nYMCA Rhoades Optimist Room\n400 Oaklawn Drive\, Corsicana \nChurch of Jesus Christ of Latter Day Saints\n3800 Emhouse Road\, Corsicana \nRice City Hall\n203 E. Calhoun Street\, Rice \nChatfield Community Center\n4808 FM Road 1603\, Chatfield \nMartin Luther King Center\n1114 East Sixth Avenue\, Corsicana \nBears’ Den\n802 South 2nd Street\, Corsicana \nKerens ISD Administration Building\n200 Bobcat Lane\, Kerens \nEureka United Methodist Church\n8644 South Highway 287\, Corsicana \nMildred Baptist Church Gymnasium\n5502 South Highway 287\, Corsicana \nNavarro College Cook Center\n3200 West Seventh Avenue\, Corsicana \nNavarro County Courthouse Annex\n601 North 13th Street\, Corsicana \nDawson Volunteer Fire Department\n97 N Main Street\, Dawson \nRichland City Hall\n103 W. Main Street\, Richland \nWinkler Masonic Lodge\n9986 FM Road 416\, Winkler \nWestside Baptist Church\n1522 N. 24th Street\, Corsicana \nFannie Mae Vernon Room — Navarro County Exposition Center\n4021 West Highway 22\, Corsicana \nBlooming Grove Lions’ Den\n121 S. Fordyce Street\, Blooming Grove \nFrost ISD\n208 N. Wyrick Street\, Frost \nSilver City Volunteer Fire Department\n555 FM Road 55\, Silver City / Purdon \nPursley Volunteer Fire Department\n9772 FM Road 709 S\, Pursley \nThe Statewide and Local Candidates for Navarro County are listed under “Your GOP” tab. \nCompleted mail-in ballots must be received by the Elections Administration Office by 7:00 pm. If a voter chooses not to use their mail-in ballot and desires to vote election day\, they MUST bring their mail-in ballot to the polling place and return it to the election judge to be able to vote a regular ballot. If the voter does not bring their mail-in ballot\, they will be required to cast a provisional ballot.
URL:https://navgop.org/navgop-event/election-day/
END:VEVENT
BEGIN:VEVENT
DTSTART;TZID=America/Chicago:20181102T070000
DTEND;TZID=America/Chicago:20181102T160000
DTSTAMP:20260425T060329
CREATED:20180810T230204Z
LAST-MODIFIED:20180810T230533Z
UID:550-1541142000-1541174400@navgop.org
SUMMARY:Last Day of Early Voting In-Person
DESCRIPTION:November 2 is the last day of Early Voting in person. \nNavarro County Annex \, 601 North 13th Street\, Corsicana \nMonday October 22 thru Friday October 26 from 8:00 a.m. to 5:00 p.m. \nSaturday October 27 from 7:00 a.m. to 7:00 p.m. \nSunday October  28 from 12:00 p.m. to 5:00 p.m. \nMonday October 29 thru Friday November 2 from 8:00 a.m. to 5:00 p.m.
URL:https://navgop.org/navgop-event/last-day-of-early-voting-in-person/
END:VEVENT
BEGIN:VEVENT
DTSTART;TZID=America/Chicago:20181101T180000
DTEND;TZID=America/Chicago:20181101T200000
DTSTAMP:20260425T060329
CREATED:20180920T023053Z
LAST-MODIFIED:20181026T053251Z
UID:733-1541095200-1541102400@navgop.org
SUMMARY:2018 State of the State / Nation Address
DESCRIPTION:November 1\, 2018\nCorsicana & Navarro County Chamber of Commerce  \nElected officials will share information on current regulations and legislation that affect our local businesses.  Palace Theater\, 112 West Sixth Avenue in downtown Corsicana from 7:00 pm to 9:00 pm. \nGlenn Hegar\, Texas Comptroller of Public Accounts  \n“This event is designed to allow our business owners\, community leaders\, and citizens to hear what their elected officials are working on that affect us at the local level\,” said Joanna Fritz\, President & CEO of the Chamber.  “We have invited all our local representatives at the State and Federal levels to speak.  After the presentations\, the speakers will be available for one on one questions.  We are excited this year to have Glenn Hegar\, the Texas Comptroller of Public Accounts\, as our guest speaker.”
URL:https://navgop.org/navgop-event/2018-state-of-the-state-nation-address/
LOCATION:Palace Theater\, 112 West Sixth Avenue\, Corsicana\, Texas\, United States
ORGANIZER;CN="Republican Party of Navarro County":MAILTO:info@navgop.org
END:VEVENT
BEGIN:VEVENT
DTSTART;TZID=America/Chicago:20181026T070000
DTEND;TZID=America/Chicago:20181026T160000
DTSTAMP:20260425T060329
CREATED:20180810T231221Z
LAST-MODIFIED:20180823T231152Z
UID:553-1540537200-1540569600@navgop.org
SUMMARY:Last Day to Apply for Ballot by Mail
DESCRIPTION:October 26 is the last day to apply for ballot by mail.  Received at the Elections office\, not postmarked. \nSend request to: \nNavarro County Elections Administration \nP.O. Box 1018 \nCorsicana\, Texas 75151
URL:https://navgop.org/navgop-event/last-day-to-apply-for-ballot-by-mail/
END:VEVENT
BEGIN:VEVENT
DTSTART;TZID=America/Chicago:20181023T103000
DTEND;TZID=America/Chicago:20181023T120000
DTSTAMP:20260425T060329
CREATED:20180925T205959Z
LAST-MODIFIED:20180925T205959Z
UID:752-1540290600-1540296000@navgop.org
SUMMARY:Republican Women Meeting
DESCRIPTION:11:30am – 1:00pm \nThe Navarro County Republican Women will meet on Tuesday\, October 23\, 2018 at the Republican Headquarters located at 111-B West Third Avenue in downtown Corsicana. Social time and lunch begins at 11:30am\, with the meeting and program to begin promptly at noon. \nOur guest speaker will be our own Sam “Tripp” Bryant\, whom was elected to the State Republican Executive Committee (SREC) for State Senate District 22\, representing Navarro County. \nMake your lunch reservations by Saturday\, October 20\, with Nancy Smith. Call her at (903) 872-4523\, or E-mail janbarlow@aol.com\, or NCRW Facebook message. Lunch is $7 at the door. Bring a friend to lunch!!
URL:https://navgop.org/navgop-event/republican-women-meeting-3/
LOCATION:Republican Headquarters\, 111-B West Third Avenue\, Corsicana\, TX\, 75110\, United States
ORGANIZER;CN="Republican Party of Navarro County":MAILTO:info@navgop.org
END:VEVENT
BEGIN:VEVENT
DTSTART;TZID=America/Chicago:20181022T070000
DTEND;TZID=America/Chicago:20181022T160000
DTSTAMP:20260425T060329
CREATED:20180810T230030Z
LAST-MODIFIED:20190419T160235Z
UID:548-1540191600-1540224000@navgop.org
SUMMARY:First Day of Early Voting In-Person General Election 2018
DESCRIPTION:October 22 is the first day of Early Voting in person for the General Election 2018. \nNavarro County Annex \, 601 North 13th Street\, Corsicana \nMonday October 22 thru Friday October 26 from 8:00 a.m. to 5:00 p.m. \nSaturday October 27 from 7:00 a.m. to 7:00 p.m. \nSunday October  28 from 12:00 p.m. to 5:00 p.m. \nMonday October 29 thru Friday November 2 from 8:00 a.m. to 5:00 p.m.
URL:https://navgop.org/navgop-event/first-day-of-early-voting-in-person/
END:VEVENT
BEGIN:VEVENT
DTSTART;TZID=America/Chicago:20181020T070000
DTEND;TZID=America/Chicago:20181020T160000
DTSTAMP:20260425T060329
CREATED:20180811T215243Z
LAST-MODIFIED:20180811T215243Z
UID:569-1540018800-1540051200@navgop.org
SUMMARY:Kerens Cotton Harvest Festival Republican Booth
DESCRIPTION:Saturday\, October 20\, 2018\nThe Kerens Cotton Harvest Festival is the second largest festival in Navarro County. \nIt relives the excitement of those cotton picking days long ago\, when the cotton crop was the main source of income\, and hard working farmers & their employees came to town on fall Saturdays with money in their pockets.  Now\, the red brick main street once again comes alive with some of the old folks\, some new folks\, some city folks\, but all folks looking to have a good time. \nThe Republican Party of Navarro County is sponsoring a booth at the Cotton Harvest Festival. \nWe need volunteers to work two-hour shifts: \n09:00 a.m. to 11:00 a.m. \n11:00 a.m. to 01:00 p.m. \n01:00 p.m. to 03:00 p.m. \n03:00 p.m. to 05:00 p.m. \nPlease contact Steve Jessup or Denna Green if you can help volunteer.
URL:https://navgop.org/navgop-event/kerens-cotton-harvest-festival-republican-booth/
LOCATION:Colket Street\, downtown Kerens Texas\, Kerens\, TX\, 75144\, United States
ORGANIZER;CN="Republican Party of Navarro County":MAILTO:info@navgop.org
END:VEVENT
BEGIN:VEVENT
DTSTART;TZID=America/Chicago:20181009T070000
DTEND;TZID=America/Chicago:20181009T160000
DTSTAMP:20260425T060329
CREATED:20180810T221800Z
LAST-MODIFIED:20220918T123717Z
UID:538-1539068400-1539100800@navgop.org
SUMMARY:Last Day to Register to Vote
DESCRIPTION:October 9 is the last day to register to vote\, which is 30 days before the November 6\, 2018 General Election (first business day after Columbus Day).
URL:https://navgop.org/navgop-event/last-day-to-register-to-vote/
END:VEVENT
BEGIN:VEVENT
DTSTART;TZID=America/Chicago:20181006T163000
DTEND;TZID=America/Chicago:20181006T183000
DTSTAMP:20260425T060329
CREATED:20180811T012608Z
LAST-MODIFIED:20180811T012608Z
UID:564-1538843400-1538850600@navgop.org
SUMMARY:GOP Rally - Keep Navarro County and Texas RED!
DESCRIPTION:GOP Rally – Keep Navarro County and Texas RED! \nJoin the Republican Party of Navarro County for our GOP Rally – Keep Navarro County and Texas Red on Saturday\, October 6th\, 2018\, from 5:30 PM – 7:30 PM at the RPNC Headquarters in Corsicana. We will have FREE BBQ and beverages! United States GOP Congressional Candidate Ron Wright (TX-CD6)\, Texas State Representative GOP Candidate Cody Harris (TX-HD8)\, and several Navarro County Elected Officials on hand to talk about why it is crucial for a Republican turnout for the upcoming General Election on November 6th\, 2018. \nThis event is FREE and open to all Republicans!
URL:https://navgop.org/navgop-event/gop-rally-keep-navarro-county-and-texas-red/
LOCATION:Republican Headquarters\, 111-B West Third Avenue\, Corsicana\, TX\, 75110\, United States
ATTACH;FMTTYPE=image/jpeg:https://navgop.org/wp-content/uploads/2018/08/KIR-Email.jpg
ORGANIZER;CN="Republican Party of Navarro County":MAILTO:info@navgop.org
END:VEVENT
BEGIN:VEVENT
DTSTART;TZID=America/Chicago:20180922T170000
DTEND;TZID=America/Chicago:20180922T190000
DTSTAMP:20260425T060329
CREATED:20180829T200859Z
LAST-MODIFIED:20180829T200859Z
UID:665-1537635600-1537642800@navgop.org
SUMMARY:Tarrant County Appreciation for U.S. Congressman Joe Barton
DESCRIPTION:September 22\, 2018\nU.S. Congressman District 6 Joe Barton  \nYou are cordially invited to spend an evening in honor and appreciation of U.S. Congressman Joe Barton for 34 years of dedication to our nation. \nIn the home of . . . . and as a guest of: \nGary Martin\, 629 Crowley Road\, Arlington\, Texas 76012 \nSaturday\, September 22\, 2018 from 6:00 pm – 8:00 pm \nPlease feel free to bring a card with a favorite memory or piece of legislation in which Joe Barton helped in sponsoring. \nPlease RSVP by September 14\, 2018 to Shanda Perkins shandaperkins@reagan.com (817) 721-0345 \n 
URL:https://navgop.org/navgop-event/tarrant-county-appreciation-for-u-s-congressman-joe-barton/
END:VEVENT
BEGIN:VEVENT
DTSTART;TZID=America/Chicago:20180904T170000
DTEND;TZID=America/Chicago:20180904T190000
DTSTAMP:20260425T060329
CREATED:20180607T090749Z
LAST-MODIFIED:20220918T130823Z
UID:170-1536080400-1536087600@navgop.org
SUMMARY:Executive Committee Meeting
DESCRIPTION:6:00pm – 8:00pm \nThe Republican Party Of Navarro County will hold an Executive Committee Special Meeting on Tuesday September 4\, 2018 at 6:30 pm at the RPNC headquarters located at 111-B West Third Avenue in downtown Corsicana. \nPlease join us for a social from 6:00pm to 6:30pm\, saluting our elected officials. \nAll registered voters are welcome to attend. \nSpeaker – State Senator Brian Birdwell will address the party on issues facing the State of Texas. and legislative priorities for the next session.
URL:https://navgop.org/navgop-event/executive-committee-meeting/
LOCATION:Republican Headquarters\, 111-B West Third Avenue\, Corsicana\, TX\, 75110\, United States
CATEGORIES:Required CEC Meeting
ORGANIZER;CN="Republican Party of Navarro County":MAILTO:info@navgop.org
END:VEVENT
BEGIN:VEVENT
DTSTART;TZID=America/Chicago:20180828T170000
DTEND;TZID=America/Chicago:20180828T190000
DTSTAMP:20260425T060329
CREATED:20180823T232359Z
LAST-MODIFIED:20180824T002219Z
UID:617-1535475600-1535482800@navgop.org
SUMMARY:Ron Wright Fall Campaign Kickoff
DESCRIPTION:August 28\, 2018\nU.S. Representative District 6 candidate Ron Wright  \nJoin Ron Wright’s Fall Campaign Kickoff fundraiser on Tuesday August 28 from 6:00 pm to 8:00 pm at the home of Gary Martin\, 629 Crowley Road\, Arlington\, Texas\, 76012. \nThis is a district-wide event and you are invited. \nTo RSVP by mail\, click on Reply Form link.  Make checks payable to Ron Wright for Congress and mail check and completed form to P.O. Box 171531\, Arlington\, TX 76003 \nTo RSVP by fax\, send completed form to 866-207-2622. \nTo RSVP by E-mail\, send completed form to bunni@bunnipoundsassoc.com \nTo RSVP on-line\, contribute at www.wright4congress.com and then E-mail your RSVP. \n  \nFor questions\, please contact Bunni Pounds at bunni@bunnipoundsassoc.com\,  or call 972-922-0022 \nCD6_Ron Wright Fall Campaign Kickoff 082818 \nCD6_Ron Wright Fall Campaign Kickoff Reply Form 082818
URL:https://navgop.org/navgop-event/ron-wright-fall-campaign-kickoff/
END:VEVENT
BEGIN:VEVENT
DTSTART;TZID=America/Chicago:20180827T150000
DTEND;TZID=America/Chicago:20180827T163000
DTSTAMP:20260425T060329
CREATED:20180826T010256Z
LAST-MODIFIED:20180826T014226Z
UID:659-1535382000-1535387400@navgop.org
SUMMARY:U.S. Senator Ted Cruz Visit to Corsicana
DESCRIPTION:August 27\, 2018\nJoin Republicans from across Navarro County in welcoming our U.S. Senator\, Ted Cruz\, to Corsicana.  Come meet Senator Cruz\, as he makes a late afternoon stop.  This is a FREE event! \n  \nDATE AND TIME \nMonday\, August 27\, 2018 \n4:00 PM – 5:30 PM CDT \n  \nLOCATION \nAcross the Street Bistro \n123 North Beaton Street \nCorsicana\, TX 75110 \n  \nRegister on-line
URL:https://navgop.org/navgop-event/u-s-senator-ted-cruz-visit-to-corsicana/
ORGANIZER;CN="Republican Party of Navarro County":MAILTO:info@navgop.org
END:VEVENT
BEGIN:VEVENT
DTSTART;TZID=America/Chicago:20180630T070000
DTEND;TZID=America/Chicago:20180630T080000
DTSTAMP:20260425T060329
CREATED:20180607T085934Z
LAST-MODIFIED:20220918T122218Z
UID:167-1530342000-1530345600@navgop.org
SUMMARY:Organizational Meeting
DESCRIPTION:The Republican Party Of Navarro County will hold an Organizational Meeting on Saturday June 30\, 2018 at 9:00 am at the RPNC headquarters located at 111-B West Third Avenue in downtown Corsicana. \nThe County Chair and Precinct Chairs will be sworn in for the next two-year term by Chief Justice 10th Court Of Appeals Tom Gray. Local party By-Laws will be adopted. County Chair Eric R. Meyers will prepare the local party for the 2018 general election in November. \nAll registered voters are welcome to attend.
URL:https://navgop.org/navgop-event/organizational-meetin/
LOCATION:Republican Headquarters\, 111-B West Third Avenue\, Corsicana\, TX\, 75110\, United States
END:VEVENT
BEGIN:VEVENT
DTSTART;VALUE=DATE:20180610
DTEND;VALUE=DATE:20180612
DTSTAMP:20260425T060329
CREATED:20180607T085712Z
LAST-MODIFIED:20180630T003240Z
UID:163-1528671600-1528757999@navgop.org
SUMMARY:New Party Officers Take Office
DESCRIPTION:
URL:https://navgop.org/navgop-event/new-party-officers-take-office/
LOCATION:Republican Headquarters\, 111-B West Third Avenue\, Corsicana\, TX\, 75110\, United States
ORGANIZER;CN="Republican Party of Navarro County":MAILTO:info@navgop.org
END:VEVENT
END:VCALENDAR