BEGIN:VCALENDAR
VERSION:2.0
PRODID:-//Republican Party of Navarro County - ECPv6.15.20//NONSGML v1.0//EN
CALSCALE:GREGORIAN
METHOD:PUBLISH
X-ORIGINAL-URL:https://navgop.org
X-WR-CALDESC:Events for Republican Party of Navarro County
REFRESH-INTERVAL;VALUE=DURATION:PT1H
X-Robots-Tag:noindex
X-PUBLISHED-TTL:PT1H
BEGIN:VTIMEZONE
TZID:America/Chicago
BEGIN:DAYLIGHT
TZOFFSETFROM:-0600
TZOFFSETTO:-0500
TZNAME:CDT
DTSTART:20250309T080000
END:DAYLIGHT
BEGIN:STANDARD
TZOFFSETFROM:-0500
TZOFFSETTO:-0600
TZNAME:CST
DTSTART:20251102T070000
END:STANDARD
BEGIN:DAYLIGHT
TZOFFSETFROM:-0600
TZOFFSETTO:-0500
TZNAME:CDT
DTSTART:20260308T080000
END:DAYLIGHT
BEGIN:STANDARD
TZOFFSETFROM:-0500
TZOFFSETTO:-0600
TZNAME:CST
DTSTART:20261101T070000
END:STANDARD
BEGIN:DAYLIGHT
TZOFFSETFROM:-0600
TZOFFSETTO:-0500
TZNAME:CDT
DTSTART:20270314T080000
END:DAYLIGHT
BEGIN:STANDARD
TZOFFSETFROM:-0500
TZOFFSETTO:-0600
TZNAME:CST
DTSTART:20271107T070000
END:STANDARD
END:VTIMEZONE
BEGIN:VEVENT
DTSTART;TZID=America/Chicago:20260303T070000
DTEND;TZID=America/Chicago:20260303T190000
DTSTAMP:20260422T172532
CREATED:20260118T003200Z
LAST-MODIFIED:20260118T003617Z
UID:6233-1772521200-1772564400@navgop.org
SUMMARY:Republican Primary Election Day 2026
DESCRIPTION:Candidate Contact Information and Vote Center Locations: \n\n\n\nPOLLING LOCATIONS FOR MARCH 3\, 2026:\n\n\n\nYMCA Rhoades Optimist Room400 Oaklawn Drive\, Corsicana \n\n\n\nChurch of Jesus Christ of Latter Day Saints3800 Emhouse Road\, Corsicana \n\n\n\nRice City Hall203 E. Calhoun Street\, Rice \n\n\n\nChatfield Community Center4808 FM Road 1603\, Chatfield \n\n\n\nMartin Luther King Center1114 East Sixth Avenue\, Corsicana \n\n\n\nBears’ Den802 South 2nd Street\, Corsicana \n\n\n\nKerens ISD Administration Building200 Bobcat Lane\, Kerens \n\n\n\nEureka United Methodist Church8644 South Highway 287\, Corsicana \n\n\n\nMildred Baptist Church Gymnasium5502 South Highway 287\, Corsicana \n\n\n\nNavarro College Cook Center3200 West Seventh Avenue\, Corsicana \n\n\n\nNavarro County Courthouse Annex601 North 13th Street\, Corsicana \n\n\n\nDawson Volunteer Fire Department97 N Main Street\, Dawson \n\n\n\nRichland City Hall103 W. Main Street\, Richland \n\n\n\nWinkler Masonic Lodge9986 FM Road 416\, Winkler \n\n\n\nWestside Baptist Church1522 N. 24th Street\, Corsicana \n\n\n\nFannie Mae Vernon Room — Navarro County Exposition Center4021 West Highway 22\, Corsicana \n\n\n\nBlooming Grove Lions’ Den121 S. Fordyce Street\, Blooming Grove \n\n\n\nFrost ISD208 N. Wyrick Street\, Frost \n\n\n\nSilver City Volunteer Fire Department555 FM Road 55\, Silver City / Purdon \n\n\n\nPursley Missionary Baptist Church8108 FM Road 642\, Pursley \n\n\n\nThe Statewide and Local Candidates for Navarro County are listed under “Your GOP” tab. \n\n\n\nCompleted mail-in ballots must be received by the Elections Administration Office by 7:00 pm. If a voter chooses not to use their mail-in ballot and desires to vote election day\, they MUST bring their mail-in ballot to the polling place and return it to the election judge to be able to vote a regular ballot. If the voter does not bring their mail-in ballot\, they will be required to cast a provisional ballot.
URL:https://navgop.org/navgop-event/republican-primary-election-day-2026/
LOCATION:Navarro County Annex
END:VEVENT
BEGIN:VEVENT
DTSTART;TZID=America/Chicago:20260307T100000
DTEND;TZID=America/Chicago:20260307T120000
DTSTAMP:20260422T172532
CREATED:20260209T005235Z
LAST-MODIFIED:20260209T005237Z
UID:6271-1772877600-1772884800@navgop.org
SUMMARY:Republican Precinct Conventons 2026
DESCRIPTION:Republican voters are invited to attend your Precinct Convention for grassroots input into your Republican Party and government. \n\n\n\nSaturday March 7\, 2026\n\n\n\nThe Republican Party of Navarro County will hold its Precinct Conventions on Saturday March 7\, 2026 at 10:00 a.m. at the Navarro County District Courtroom (second floor)\, 300 West Third Avenue\, in downtown Corsicana. \n\n\n\nRepublican voters are invited to attend your Precinct Convention for grassroots input into your Republican Party and government. \n\n\n\nThe purpose of the Precinct Convention is to: \n\n\n\nPass resolutions for consideration at the County Convention \n\n\n\nElect delegates and alternates to the County Convention.
URL:https://navgop.org/navgop-event/republican-precinct-conventons-2026/
LOCATION:Navarro County Courthouse\, 300 West Third Avenue\, Corsicana\, TX\, 75110\, United States
ORGANIZER;CN="Republican Party of Navarro County":MAILTO:info@navgop.org
END:VEVENT
BEGIN:VEVENT
DTSTART;TZID=America/Chicago:20260312T060000
DTEND;TZID=America/Chicago:20260312T183000
DTSTAMP:20260422T172532
CREATED:20260305T162621Z
LAST-MODIFIED:20260305T162623Z
UID:6287-1773295200-1773340200@navgop.org
SUMMARY:Canvass of 2026 Republican Primary Election
DESCRIPTION:March 12\, 2026 \n\n\n\n6:00 p.m.\n\n\n\nRepublican Headquarters\n\n\n\n111-B West Third Avenue\n\n\n\nCorsicana\, Texas  75110\n\n\n\nThe county chair or the county chair’s designee and\, if available\, at least one member of the county executive committee must conduct the local canvass on Thursday\, March 12\, 2026 at the hour specified by the county chair. If a designee will conduct the canvass on behalf of the county chair\, then that designee must be a member of the county executive committee\, or if no member of the county executive committee is available\, then the designee must be a resident of the county served by the committee who is affiliated with the same political party. Tex. Elec. Code § 172.116.
URL:https://navgop.org/navgop-event/canvass-of-2026-republican-primary-election/
LOCATION:Republican Headquarters\, 111-B West Third Avenue\, Corsicana\, TX\, 75110\, United States
ORGANIZER;CN="Republican Party of Navarro County":MAILTO:info@navgop.org
END:VEVENT
BEGIN:VEVENT
DTSTART;TZID=America/Chicago:20260316T180000
DTEND;TZID=America/Chicago:20260316T200000
DTSTAMP:20260422T172532
CREATED:20260307T013531Z
LAST-MODIFIED:20260307T013532Z
UID:6293-1773684000-1773691200@navgop.org
SUMMARY:Executive Committee Meeting
DESCRIPTION:The Republican Party Of Navarro County will hold an Executive Committee Meeting on Monday March 16\, 2026 at 6:30 pm at the Republican Headquarters located at 111-B West Third Avenue in downtown Corsicana. \n\n\n\nState Senator Bob Hall SD02 will be the guest speaker\, addressing party unity. \n\n\n\nJoin us for a social from 6:00pm to 6:30pm\, saluting our elected officials. \n\n\n\nAll registered voters are welcome to attend.
URL:https://navgop.org/navgop-event/executive-committee-meeting-35/
LOCATION:Republican Headquarters\, 111-B West Third Avenue\, Corsicana\, TX\, 75110\, United States
ORGANIZER;CN="Republican Party of Navarro County":MAILTO:info@navgop.org
END:VEVENT
BEGIN:VEVENT
DTSTART;TZID=America/Chicago:20260324T113000
DTEND;TZID=America/Chicago:20260324T130000
DTSTAMP:20260422T172532
CREATED:20260311T041430Z
LAST-MODIFIED:20260311T041503Z
UID:6295-1774351800-1774357200@navgop.org
SUMMARY:Republican Women Meeting
DESCRIPTION:11:30 pm to 1:00 pm \n\n\n\nThe Navarro County Republican Women will meet on Tuesday\, March 24\, 2026 at the Republican Headquarters located at 111-B West Third Avenue in downtown Corsicana.  Social time and lunch begin at 11:30am\, with the meeting and program to begin promptly at noon. \n\n\n\nTara Podjenski\, Director of Clinical Counseling\, Corsicana HOPE Center will be the guest speaker. \n\n\n\nLocal Republican Primary Run-off candidates will be speaking also. \n\n\n\nMake your lunch reservations by Saturday\, March 21\, with Holly Liversage.  RSVP via E-mail hmliversage@gmail.com or call/text at (951) 897-0092\, or NCRW Facebook message.  Lunch is $10 at the door.
URL:https://navgop.org/navgop-event/republican-women-meeting-36/
LOCATION:Republican Headquarters\, 111-B West Third Avenue\, Corsicana\, TX\, 75110\, United States
END:VEVENT
BEGIN:VEVENT
DTSTART;TZID=America/Chicago:20260328T100000
DTEND;TZID=America/Chicago:20260328T140000
DTSTAMP:20260422T172532
CREATED:20260318T031412Z
LAST-MODIFIED:20260318T031514Z
UID:6308-1774692000-1774706400@navgop.org
SUMMARY:Republican Navarro County Convention 2026
DESCRIPTION:Saturday March 28\, 2026 \n\n\n\nThe Republican Party of Navarro County will hold its County Convention on Saturday March 28\, 2026 at 10:00 a.m. at the Navarro County District Courtroom (second floor)\, 300 West Third Avenue\, in downtown Corsicana. \n\n\n\nDelegates and Alternates elected at precinct conventions held on March 7 are the only individuals qualified to vote at the county convention.  Anyone may attend the convention as a guest. \n\n\n\nCasual Dress is the attire for convention. \n\n\n\nOn the agenda for the convention meeting will be the following:• Permanent Organization\, Rules and Credentials Reports• Nominations of delegate and alternates for State Convention• Report of Resolutions Committee• Adoptions of Resolutions and Legislative Priorities to State Convention \n\n\n\nThe purpose of the County Convention is to pass resolutions to the Texas Republican Platform and nominate delegates / alternates to the Republican Party Of Texas state convention. \n\n\n\nNavarro County has been allotted 22 Delegates to be seated at the state convention.
URL:https://navgop.org/navgop-event/republican-county-convention-2026/
LOCATION:Navarro County Courthouse\, 300 West Third Avenue\, Corsicana\, TX\, 75110\, United States
ORGANIZER;CN="Republican Party of Navarro County":MAILTO:info@navgop.org
END:VEVENT
END:VCALENDAR